BEGIN:VCALENDAR
VERSION:2.0
PRODID:-//jEvents 2.0 for Joomla//EN
CALSCALE:GREGORIAN
METHOD:PUBLISH
BEGIN:VEVENT
UID:75ab80d6a85809e0be58fe8247469a9c
CATEGORIES:DEFAULT
CREATED:20240103T122539
SUMMARY:Fly Tying Night - Brewery Legitimus
DESCRIPTION:
DTSTAMP:20260424T014258
DTSTART:20240111T010000
DTEND:20240111T050000
SEQUENCE:0
TRANSP:OPAQUE
END:VEVENT
END:VCALENDAR