BEGIN:VCALENDAR
VERSION:2.0
PRODID:-//jEvents 2.0 for Joomla//EN
CALSCALE:GREGORIAN
METHOD:PUBLISH
BEGIN:VEVENT
UID:9bddec4c8e6ecc20fa087fe32d0498a3
CATEGORIES:DEFAULT
CREATED:20240103T142401
SUMMARY:FRAA Meeting - Speaker Ian Devlin - Brewery Legitimus
DESCRIPTION:
DTSTAMP:20260424T014013
DTSTART:20240118T010000
DTEND:20240118T050000
SEQUENCE:0
TRANSP:OPAQUE
END:VEVENT
END:VCALENDAR