BEGIN:VCALENDAR
VERSION:2.0
PRODID:-//jEvents 2.0 for Joomla//EN
CALSCALE:GREGORIAN
METHOD:PUBLISH
BEGIN:VEVENT
UID:f4cbfc344ee6275132333a8a6a72c2e2
CATEGORIES:DEFAULT
CREATED:20240103T142531
SUMMARY:FRAA Banquet
DESCRIPTION:
DTSTAMP:20260424T014012
DTSTART:20240302T233000
DTEND:20240303T030000
SEQUENCE:0
TRANSP:OPAQUE
END:VEVENT
END:VCALENDAR