BEGIN:VCALENDAR
VERSION:2.0
PRODID:-//jEvents 2.0 for Joomla//EN
CALSCALE:GREGORIAN
METHOD:PUBLISH
BEGIN:VEVENT
UID:bd36a00ea064b2cdc49ab5e1b37a7d5a
CATEGORIES:DEFAULT
CREATED:20240206T070302
SUMMARY:FRAA Members Meeting - Joe Goodspeed
DESCRIPTION:<p>Spealer Joe Goodspeed</p>
DTSTAMP:20260424T014115
DTSTART:20240222T010000
DTEND:20240222T040000
SEQUENCE:0
TRANSP:OPAQUE
END:VEVENT
END:VCALENDAR